BEGIN:VCALENDAR
VERSION:2.0
PRODID:-//Active Alliance First Aid Training - ECPv5.16.4//NONSGML v1.0//EN
CALSCALE:GREGORIAN
METHOD:PUBLISH
X-WR-CALNAME:Active Alliance First Aid Training
X-ORIGINAL-URL:https://activealliance.ca
X-WR-CALDESC:Events for Active Alliance First Aid Training
BEGIN:VTIMEZONE
TZID:UTC
BEGIN:STANDARD
TZOFFSETFROM:+0000
TZOFFSETTO:+0000
TZNAME:UTC
DTSTART:20250101T000000
END:STANDARD
END:VTIMEZONE
BEGIN:VEVENT
DTSTART;TZID=UTC:20250324T090000
DTEND;TZID=UTC:20250325T163000
DTSTAMP:20260420T102938
CREATED:20141211T010239Z
LAST-MODIFIED:20250302T175309Z
UID:235-1742806800-1742920200@activealliance.ca
SUMMARY:Red Cross Standard Child Care First Aid with CPR / AED – Level B
DESCRIPTION:Full Course: 14-16 hours (2 days) \nCourse Content: \n\nThe Red Cross\nResponding to Emergencies\nCheck\, Call\, Care\nChoking\nCirculation Emergencies\nCPR and AED\nBreathing Ermegencies\nWound Care\nHead and Spine Injuries\nBone\, Muscle and Joint Injuries\nSudden Medical Emergencies\nEnvironmental Illness\nPoisons\nChildhood Illnesses\nCaring for Children\n\n$160.00\n	  Add to cart
URL:https://activealliance.ca/course/standard-child-care-first-aid-with-cpr-aed-level-b-2/
LOCATION:South East\, 317 McKenzie Towne Dr SE\, Calgary\, Alberta\, T2Z 4Z5\, Canada
END:VEVENT
BEGIN:VEVENT
DTSTART;TZID=UTC:20250325T180000
DTEND;TZID=UTC:20250325T210000
DTSTAMP:20260420T102938
CREATED:20150325T161902Z
LAST-MODIFIED:20250204T221740Z
UID:379-1742925600-1742936400@activealliance.ca
SUMMARY:Heart and Stroke BLS Provider (C)
DESCRIPTION:Full Course: 3.5 hours\nRe-certification: 2.5 hours *Must have current certification as required by legislation to qualify for a recertification course* \n\n\n\n\n\nKey changes in basic life support\, reflecting the new science from the 2020 Guidelines\nChain of Survival\n1-rescuer / 2-rescuer CPR\nHigh-quality chest compressions with a feedback device\nMulti-rescuer team CPR\nAdult\, Child and Infant CPR and relief of choking\nUse of an AED\nEffective ventilations using a barrier device and bag-mask device\nOpioid-associated life-threatening emergencies\nRole of the CPR coach;  Maternal cardiac arrest;  Anaphylaxis;  Drowning;  Heart attack and stroke;  and\, Other life-threatening emergencies\n\n\n\n\n\nStudents must pass a written exam and skills test in order to qualify for a BLS Provider (C) course completion card. \n$90.00\n	  Add to cart
URL:https://activealliance.ca/course/heart-and-stroke-bls-for-healthcare-providers-c-13/
LOCATION:South East\, 317 McKenzie Towne Dr SE\, Calgary\, Alberta\, T2Z 4Z5\, Canada
END:VEVENT
BEGIN:VEVENT
DTSTART;TZID=UTC:20250325T180000
DTEND;TZID=UTC:20250325T203000
DTSTAMP:20260420T102938
CREATED:20151014T184439Z
LAST-MODIFIED:20250204T221653Z
UID:545-1742925600-1742934600@activealliance.ca
SUMMARY:Heart and Stroke BLS Provider (C) Re-certification
DESCRIPTION:Full Course: 3.5 hours\nRe-certification: 2.5 hours *Must have current certification as required by legislation to qualify for a recertification course*  \n\n\n\nKey changes in basic life support\, reflecting the new science from the 2020 Guidelines for CPR and ECC\nChain of Survival\n1-rescuer / 2-rescuer CPR\nHigh-quality chest compressions with a feedback device\nMulti-rescuer team CPR\nAdult\, Child and Infant CPR and relief of choking\nUse of an AED\nEffective ventilations using a barrier device and bag-mask device\nOpioid-associated life-threatening emergencies\nRole of the CPR coach;  Maternal cardiac arrest;  Anaphylaxis;  Drowning;  Heart attack and stroke;  and\, Other life-threatening emergencies\n\n\n\nStudents must pass a written exam and skills test in order to qualify for a BLS Provider  course completion card. \n$75.00\n	  Add to cart
URL:https://activealliance.ca/course/heart-and-stroke-bls-for-healthcare-providers-c-re-certifcation-8/
LOCATION:South East\, 317 McKenzie Towne Dr SE\, Calgary\, Alberta\, T2Z 4Z5\, Canada
END:VEVENT
END:VCALENDAR