BEGIN:VCALENDAR
VERSION:2.0
PRODID:-//Active Alliance First Aid Training - ECPv5.16.4//NONSGML v1.0//EN
CALSCALE:GREGORIAN
METHOD:PUBLISH
X-WR-CALNAME:Active Alliance First Aid Training
X-ORIGINAL-URL:https://activealliance.ca
X-WR-CALDESC:Events for Active Alliance First Aid Training
BEGIN:VTIMEZONE
TZID:UTC
BEGIN:STANDARD
TZOFFSETFROM:+0000
TZOFFSETTO:+0000
TZNAME:UTC
DTSTART:20170101T000000
END:STANDARD
END:VTIMEZONE
BEGIN:VEVENT
DTSTART;TZID=UTC:20170326T130000
DTEND;TZID=UTC:20170326T160000
DTSTAMP:20260426T000215
CREATED:20150119T174841Z
LAST-MODIFIED:20170326T165857Z
UID:272-1490533200-1490544000@activealliance.ca
SUMMARY:CPR / AED - Level C (Adult\, Child\, Baby) re-certification
DESCRIPTION:Re-certification: 4 hours *Must have current certification as required by legislation \nCourse content: \n\nThe Red Cross\nThe First Aiders’ Role\nCheck\, Call\, Care\nH.A.I.N.E.S. Recovery Position\nChoking – Adult\nAssisting with Medications\nAngina and Heart attack\nStroke\nCPR- Adult\nDeadly Bleeding\nChoking – Child and Baby\nCPR – Child and Baby\n\n$75.00\n	  Add to cart
URL:https://activealliance.ca/course/cpr-aed-level-c-adult-child-baby-re-certification-9/
LOCATION:South East\, 317 McKenzie Towne Dr SE\, Calgary\, Alberta\, T2Z 4Z5\, Canada
END:VEVENT
END:VCALENDAR